BEGIN:VCALENDAR
VERSION:2.0
PRODID:-//https://takethedate.it///NONSGML kigkonsult.se iCalcreator 2.10.15//
METHOD:PUBLISH
BEGIN:VEVENT
UID:20260420T184051CEST-3621Nwu2SM@https://takethedate.it/
DTSTAMP:20260420T164051Z
DESCRIPTION:Quando i rischi mettono in gioco la continuità dell’impresa\, i
 l ruolo dei Consigli di Amministrazione diventa decisivo.\nUn confronto ad
  alto livello sul ruolo dei Consigli di Amministrazione nell’anticipare e 
 gestire le minacce più critiche per aziende e stakeholder. La capacità di 
 individuare i rischi\, assumere decisioni informate e governare l’incertez
 za è oggi una leva strategica di leadership. Il convegno riunisce alcune d
 elle voci più autorevoli del panorama industriale e infrastrutturale itali
 ano per un confronto ad alto livello su come la governance possa anticipar
 e\, presidiare e gestire i rischi che incidono sul valore\, sulla reputazi
 one e sugli stakeholder.\n \nAgenda\nh 10.00-10.15 Registrazione\nh 10.15-
 10.30 Introduzione\nMassimo Michaud\, Presidente Cineas \nh 10.30-10.50 Ap
 ertura lavori\nMaurizia Iachino\, Presidente Azione contro la fame e Fuori
  Quota\, Board member Banca d’Italia\, Senior advisor Key 2 people\nh 10.5
 0-12.20 Tavola rotonda\nPaola Bonomo\, Amministratore indipendente Admiral
  Group\, INWIT\, FAAC\nMichaela Castelli\, Presidente Sea Aeroporti di Mil
 ano e Presidente Epta\nGioia Ghezzi\, Presidente ATM Azienda Trasporti Mil
 anesi\nSilvia Stefini\, Amministratore indipendente\, Compliance e Risk Of
 ficer Equiter SGR\, Autrice de ‘La governance meritocratica’\nModera: Mass
 imo Michaud\, Presidente Cineas\nh 12.20-13 Conclusioni\nFabio Cerchiai\, 
 Presidente BPER Banco Popolare dell’Emilia Romagna\nUn appuntamento pensat
 o per chi siede nei CdA\, per il top management e per chi crede che la gov
 ernance non sia solo controllo\, ma visione e responsabilità.\nREGISTRAZIO
 NE https://takethedate.it/eventi-milano/Eventi/51666-governance-dimpresa-e
 -rischi-esistenziali.html
DTSTART:20260518T080000Z
DTEND:20260518T110000Z
LOCATION:Milano (Milano)
SUMMARY:Governance d'impresa e rischi esistenziali
URL:https://takethedate.it/eventi-milano/Eventi/51666-governance-dimpresa-e
 -rischi-esistenziali.html
END:VEVENT
END:VCALENDAR
