BEGIN:VCALENDAR
VERSION:2.0
PRODID:-//https://takethedate.it///NONSGML kigkonsult.se iCalcreator 2.10.15//
METHOD:PUBLISH
BEGIN:VEVENT
UID:20260422T151350CEST-3184jxP8ku@https://takethedate.it/
DTSTAMP:20260422T131350Z
DESCRIPTION:Presentazione del film “Una principessa nuova” tratto da una nu
 ova favola di vera Italia. Su iniziativa della senatrice Dafne Musolino ht
 tps://takethedate.it/eventi-in-parlamento/Eventi/52467-presentazione-del-f
 ilm-una-principessa-nuova.html
DTSTART:20260422T143000Z
DTEND:20260422T163000Z
LOCATION:Roma (Roma)
SUMMARY:Presentazione del film “Una principessa nuova'
URL:https://takethedate.it/eventi-in-parlamento/Eventi/52467-presentazione-
 del-film-una-principessa-nuova.html
END:VEVENT
END:VCALENDAR
