BEGIN:VCALENDAR
VERSION:2.0
PRODID:-//https://takethedate.it///NONSGML kigkonsult.se iCalcreator 2.10.15//
METHOD:PUBLISH
BEGIN:VEVENT
UID:20260422T144940CEST-8357bouki9@https://takethedate.it/
DTSTAMP:20260422T124940Z
DESCRIPTION:Aree interne. Presente e futuro. Su iniziativa della senatrice 
 Anna Bilotti https://takethedate.it/eventi-in-parlamento/Eventi/52466-conf
 erenza-stampa-aree-interne.html
DTSTART:20260422T123000Z
DTEND:20260422T143000Z
LOCATION:Roma (Roma)
SUMMARY:Conferenza stampa: Aree interne
URL:https://takethedate.it/eventi-in-parlamento/Eventi/52466-conferenza-sta
 mpa-aree-interne.html
END:VEVENT
END:VCALENDAR
