BEGIN:VCALENDAR
VERSION:2.0
PRODID:-//https://takethedate.it///NONSGML kigkonsult.se iCalcreator 2.10.15//
METHOD:PUBLISH
BEGIN:VEVENT
UID:20260422T132445CEST-9183EPfMuz@https://takethedate.it/
DTSTAMP:20260422T112445Z
DESCRIPTION:La bellezza inclusiva\, arte e buona politica contro lo stigma 
 della malattia mentale. Su iniziativa della senatrice Barbara Guidolin\n  
 https://takethedate.it/eventi-in-parlamento/Eventi/52465-la-bellezza-inclu
 siva.html
DTSTART:20260422T093000Z
DTEND:20260422T113000Z
LOCATION:Roma (Roma)
SUMMARY:La bellezza inclusiva
URL:https://takethedate.it/eventi-in-parlamento/Eventi/52465-la-bellezza-in
 clusiva.html
END:VEVENT
END:VCALENDAR
