BEGIN:VCALENDAR
VERSION:2.0
PRODID:-//https://takethedate.it///NONSGML kigkonsult.se iCalcreator 2.10.15//
METHOD:PUBLISH
BEGIN:VEVENT
UID:20260422T132459CEST-1958GLezRU@https://takethedate.it/
DTSTAMP:20260422T112459Z
DESCRIPTION:Fondazione Human Technopole: modello di ricerca e innovazione a
 perta nelle scienze della vita. Su iniziativa della senatrice Elena Cattan
 eo https://takethedate.it/eventi-in-parlamento/Eventi/52464-fondazione-hum
 an-technopole.html
DTSTART:20260422T083000Z
DTEND:20260422T103000Z
LOCATION:Roma (Roma)
SUMMARY:Fondazione Human Technopole
URL:https://takethedate.it/eventi-in-parlamento/Eventi/52464-fondazione-hum
 an-technopole.html
END:VEVENT
END:VCALENDAR
