BEGIN:VCALENDAR
VERSION:2.0
PRODID:-//https://takethedate.it///NONSGML kigkonsult.se iCalcreator 2.10.15//
METHOD:PUBLISH
BEGIN:VEVENT
UID:20260422T131800CEST-2705bck8kV@https://takethedate.it/
DTSTAMP:20260422T111800Z
DESCRIPTION:30 anni. Analisi\, proposte\, formazione e impegno parlamentare
 . Su iniziativa del senatore Matteo Gelmetti https://takethedate.it/eventi
 -in-parlamento/Eventi/52463-30-anni.html
DTSTART:20260422T073000Z
DTEND:20260422T103000Z
LOCATION:Roma (Roma)
SUMMARY:30 anni
URL:https://takethedate.it/eventi-in-parlamento/Eventi/52463-30-anni.html
END:VEVENT
END:VCALENDAR
