BEGIN:VCALENDAR
VERSION:2.0
PRODID:-//https://takethedate.it///NONSGML kigkonsult.se iCalcreator 2.10.15//
METHOD:PUBLISH
BEGIN:VEVENT
UID:20260422T133840CEST-9964xk0I1a@https://takethedate.it/
DTSTAMP:20260422T113840Z
DESCRIPTION:Mercoledì 22 Aprile 2026 ore 14:30. Global Sumud Flotilla: nuov
 a partenza - Conferenza stampa di Antonio Ferrara. Video completo. https:/
 /takethedate.it/eventi-in-parlamento/Eventi/52454-global-sumud-flotilla-nu
 ova-partenza-conferenza-stampa-di-antonio-ferrara.html
DTSTART:20260422T123000Z
DTEND:20260422T143000Z
LOCATION:Roma (Roma)
SUMMARY:Global Sumud Flotilla: nuova partenza - Conferenza stampa di Antoni
 o Ferrara
URL:https://takethedate.it/eventi-in-parlamento/Eventi/52454-global-sumud-f
 lotilla-nuova-partenza-conferenza-stampa-di-antonio-ferrara.html
END:VEVENT
END:VCALENDAR
