BEGIN:VCALENDAR
VERSION:2.0
PRODID:-//https://takethedate.it///NONSGML kigkonsult.se iCalcreator 2.10.15//
METHOD:PUBLISH
BEGIN:VEVENT
UID:20260422T133910CEST-1654ofVzUL@https://takethedate.it/
DTSTAMP:20260422T113910Z
DESCRIPTION:Mercoledì 22 aprile\, alle ore 10\, presso la Sala Matteotti di
  Palazzo Theodoli - Bianchelli si svolge il convegno 'Educare alla legalit
 à: il ruolo dei giovani nella lotta alla mafia'. Saluto della segretaria d
 i presidenza della Camera\, Carolina Varchi. L'appuntamento viene trasmess
 o in diretta webtv.\nProgramma https://takethedate.it/eventi-in-parlamento
 /Eventi/52450-educare-alla-legalita-il-ruolo-dei-giovani-nella-lotta-alla-
 mafia.html
DTSTART:20260422T080000Z
DTEND:20260422T110000Z
LOCATION:Roma (Roma)
SUMMARY:Educare alla legalità: il ruolo dei giovani nella lotta alla mafia
URL:https://takethedate.it/eventi-in-parlamento/Eventi/52450-educare-alla-l
 egalita-il-ruolo-dei-giovani-nella-lotta-alla-mafia.html
END:VEVENT
END:VCALENDAR
