BEGIN:VCALENDAR
VERSION:2.0
PRODID:-//https://takethedate.it///NONSGML kigkonsult.se iCalcreator 2.10.15//
METHOD:PUBLISH
BEGIN:VEVENT
UID:20260422T134001CEST-86849ij2TU@https://takethedate.it/
DTSTAMP:20260422T114001Z
DESCRIPTION:Il Vicepresidente Ance\, Stefano Betti\, interverrà all’Audizio
 ne Ance prevista per il prossimo mercoledì 22 aprile alle ore 14.30\, pres
 so la Commissione parlamentare d’inchiesta sulle condizioni di sicurezza e
  sullo stato di degrado delle città e delle loro periferie della Camera de
 i Deputati. https://takethedate.it/eventi-in-parlamento/Eventi/52367-audiz
 ione-ance-in-commissione-parlamentare-dinchiesta-sulle-condizioni-di-sicur
 ezza-e-sullo-stato-di-degrado-delle-citta-e-delle-loro-periferie.html
DTSTART:20260422T123000Z
DTEND:20260422T130000Z
LOCATION:evento online  ()
SUMMARY:Audizione Ance in Commissione parlamentare d’inchiesta sulle condiz
 ioni di sicurezza e sullo stato di degrado delle città e delle loro perife
 rie
URL:https://takethedate.it/eventi-in-parlamento/Eventi/52367-audizione-ance
 -in-commissione-parlamentare-dinchiesta-sulle-condizioni-di-sicurezza-e-su
 llo-stato-di-degrado-delle-citta-e-delle-loro-periferie.html
END:VEVENT
END:VCALENDAR
