BEGIN:VCALENDAR
VERSION:2.0
PRODID:-//https://takethedate.it///NONSGML kigkonsult.se iCalcreator 2.10.15//
METHOD:PUBLISH
BEGIN:VEVENT
UID:20260422T150605CEST-34938ib7X1@https://takethedate.it/
DTSTAMP:20260422T130605Z
DESCRIPTION:SAVE THE DATE 14 maggio 2026 Ore 9:30–13:30 Sala Zuccari Palazz
 o Giustiniani\, Via della Dogana Vecchia\, 29 Roma\nLe opinioni e i conten
 uti espressi nell'ambito dell'iniziativa sono nell'esclusiva responsabilit
 à dei proponenti e dei relatori e non sono riconducibili in alcun modo al 
 Senato della Repubblica o ad organi del Senato medesimo.\nL'accesso alla s
 ala – e\, per gli uomini\, obbligo di giacca e cravatta – è consentito fin
 o al raggiungimento della capienza massima.\nSegreteria organizzativa: ALT
 IS Partner Editoriale: IHPB\nPer accrediti ospiti e informazioni: Sharon F
 iorini sfiorini@altis-ops.it\, +39 3383493932 Ivana Marcon imarcon@altis-o
 ps.it\, +39 345 222 2949\nPer accrediti Stampa: Francesca Portesi fportesi
 @altis-ops.it\, +39 02. 49583333\, +39 347 908 7479\nI giornalisti e gli o
 spiti devono accreditarsi scrivendo a fportesi@altis-ops.it I lavori del c
 onvegno saranno trasmessi in diretta streaming al link: https://webtv.sena
 to.it e sul canale YouTube del Senato Italiano: https://www.youtube.com/us
 er/Senatotitaliano https://takethedate.it/eventi-in-parlamento/Eventi/5226
 0-celiachia-intolleranza-al-lattosio-e-allergie-alimentari-un-approccio-in
 tegrato-per-la-salute-pubblica.html
DTSTART:20260514T073000Z
DTEND:20260514T113000Z
LOCATION:Roma (Roma)
SUMMARY:Celiachia\, intolleranza al lattosio e allergie alimentari: un appr
 occio integrato per la salute pubblica
URL:https://takethedate.it/eventi-in-parlamento/Eventi/52260-celiachia-into
 lleranza-al-lattosio-e-allergie-alimentari-un-approccio-integrato-per-la-s
 alute-pubblica.html
END:VEVENT
END:VCALENDAR
