BEGIN:VCALENDAR
VERSION:2.0
PRODID:-//https://takethedate.it///NONSGML kigkonsult.se iCalcreator 2.10.15//
METHOD:PUBLISH
BEGIN:VEVENT
UID:20260422T144849CEST-2843jTRhN9@https://takethedate.it/
DTSTAMP:20260422T124849Z
DESCRIPTION:Le Malattie Rare richiedono modelli di presa in carico sempre p
 iù integrati e personalizzati\, in cui la nutrizione rappresenta una leva 
 strategica ancora oggi non pienamente valorizzata né strutturata nei perco
 rsi terapeutici. Parallelamente\, la filiera agroalimentare non risulta an
 cora coinvolta in modo sistemico nella definizione di standard nutrizional
 i specifici\, limitando la traduzione delle evidenze scientifiche in soluz
 ioni concrete e accessibili.In questo contesto\, “Nutrire la Cura” nasce c
 on l’obiettivo di promuovere un modello di collaborazione stabile tra sist
 ema sanitario\, comunità scientifica\, associazioni pazienti e settore agr
 oalimentare\, favorendo un approccio integrato capace di rendere la nutriz
 ione parte integrante e riconosciuta del percorso terapeutico. L’iniziativ
 a intende così contribuire allo sviluppo di strumenti condivisi e operativ
 i\, migliorando la qualità della vita delle persone con malattie rare e ra
 fforzando un sistema di cura più equo\, inclusivo e orientato ai bisogni r
 eali. https://takethedate.it/eventi-in-parlamento/Eventi/52043-nutrire-la-
 cura.html
DTSTART:20260428T090000Z
DTEND:20260428T110000Z
LOCATION:Roma (Roma)
SUMMARY:Nutrire la Cura 
URL:https://takethedate.it/eventi-in-parlamento/Eventi/52043-nutrire-la-cur
 a.html
END:VEVENT
END:VCALENDAR
