BEGIN:VCALENDAR
VERSION:2.0
PRODID:-//https://takethedate.it///NONSGML kigkonsult.se iCalcreator 2.10.15//
METHOD:PUBLISH
BEGIN:VEVENT
UID:20260420T184100CEST-9239zcRctL@https://takethedate.it/
DTSTAMP:20260420T164100Z
DESCRIPTION:ROMA - Da 99 milioni di spermatozoi per millilitro nel 1973 a 4
 7 milioni nel 2011\, è il crollo verticale della capacità riproduttiva mas
 chile fotografata dalla meta-analisi apparsa su Human Reproduction Update.
  Eppure la prevenzione e la protezione della fertilità maschile sono le gr
 andi assenti dai programmi di screening e in molti casi i problemi vengono
  identificati quando la coppia cerca di avere una gravidanza. Per questo a
 lla Clinica Sanatrix il week end del 10 e 11 novembre è stato dedicato all
 a prevenzione andrologica e alla protezione della fertilità del maschio. 
 \nL’Open Day prevede quindi una visita gratuita sabato 10 novembre dalle 1
 0 alle 13:00 e poi dalle 14 alle 16 e domenica 11 novembre dalle 10 alle 1
 3:30 Le visite vanno prenotate al numero 06-86321981 e prevedranno anamnes
 i\, esame obiettivo\, valutazione anatomica e colloquio con specialisti e 
 biologi.\n  https://takethedate.it/Eventi/8634-open-day-per-la-protezione-
 della-salute-riproduttiva.html
DTSTART:20181110T090000Z
DTEND:20181111T123000Z
LOCATION: ()
SUMMARY:Open Day Per La Protezione Della Salute Riproduttiva
URL:https://takethedate.it/Eventi/8634-open-day-per-la-protezione-della-sal
 ute-riproduttiva.html
END:VEVENT
END:VCALENDAR
