BEGIN:VCALENDAR
VERSION:2.0
PRODID:-//https://takethedate.it///NONSGML kigkonsult.se iCalcreator 2.10.15//
METHOD:PUBLISH
BEGIN:VEVENT
UID:20260423T060822CEST-7477kfrTx7@https://takethedate.it/
DTSTAMP:20260423T040822Z
DESCRIPTION:t2i - trasferimento tecnologico e innovazione 34/a Piazza delle
  Istituzioni  Treviso\nVenerdì 19 ottobre 2018 presso e in collaborazione 
 con T2i (Trasferimento Tecnologico e Innovazione)\, si terrà un evento org
 anizzato dall'Associazione IoTItaly: “IoT Connected Design: la monetizzazi
 one dei servizi legati ai prodotti connessi”\, in cui interverranno espone
 nti di Università\, come il Politecnico di Milano ed aziende che si occupa
 no di integrare le soluzioni IoT ai prodotti.\nIl convegno si inserisce al
 l'interno di Digital Meet evento dedicato all’innovazione digitale promoss
 o da Fondazione Comunica\, nella persona del sig. Gianni Potti (Presidente
  CNCT di Confindustria Servizi Innovativi e Tecnologici) e Talent Garden P
 adova.\nFocus del convegno è l’applicazione delle tecnologie IoT ai prodot
 ti per la creazione di valore aggiunto: nello specifico si parlerà di come
  attraverso l'IoT il focus imprenditoriale si stia spostando dai prodotti 
 ai servizi per cogliere nuove opportunità di business. Con le tecnologie c
 onnesse infatti\, si possono fornire insieme ai prodotti anche tutta una s
 erie di servizi(raccolta dati\, manutenzione predittiva\, risparmio energe
 tico\, ecc.) e sistemi utili alle smart building. Così facendo le aziende 
 potranno giovare di un nuovo modello di business che si basa sulla monetiz
 zazione di questi servizi. \nLa presentazione e l'esaltazione dei prodotti
  e della creatività Made In Italyavranno un ruolo centrale all'interno del
 la manifestazione grazie alla partecipazione di aziende primarie nel loro 
 settore\, che hanno contribuito alla produzione di oggetti di design “conn
 essi”.\nIl case history principale presentato sarà quello di Tecno\, prese
 ntato al salone del mobile di Milano del 2017 (http://www.tecnospa.com/it/
 news/ultime-news/io-t-l-intelligenza-di-tecno) che si spinge alla 'realizz
 azione di arredi io.T\, aggiornabili nelle loro funzionalità interattive. 
 Arredi la cui dotazione digitale connette le attività degli oggetti e dell
 e persone e permette di stabilire prestazioni e bisogni anche in relazione
  alla vita dell’edificio. Il mondo connesso muta e migliora i processi di 
 business\, facilita la comunicazione interna ed esterna\, attiva il contro
 llo remoto e permette la riduzione dei costi.'\nL'evento è aperto a tutte 
 le aziende.\nAGENDA [in aggiornamento]\n15.00 - 15.10\n\nSaluti di benvenu
 to:\n\nAssociazione IoTItaly\n\n\n\n15.10 - 16.10\n\nKeynote:\n\nT2i - Rob
 erto Santolamazza\, Direttore \n\n'Il valore dei dati nel digitale'\n\n\nP
 olitecnico di Milano - Ilaria Vitali\n\n'IoT e Design: elementi di senso e
  valore'\n\n\n\n\n\n16.00 - 17.30\n\nRound Table:\n\nTecno - Tommaso Mosco
 ni\, Business Development\n\n'L'IoT nell’arredo quale leva di nuovi busine
 ss\; il case study di Tecno per i coworking e le public areas'\n\n\nIlevia
  - Andrea Padovan\, CEO\n\n'Dall'analogico al digitale connesso'\n\n\nSTMi
 crolectronics - Luciano Pini\, South\, East Europe Israel & Nordic IoT Biz
  Development Sales Director\n\n'Il contributo di ST per un 'ecosistema di 
 competenze' a supporto dello sviluppo IoT'\n\n\nHolonix - Paolo Perillo\, 
 Product Manager\n\n'Percorsi e Esperienze di Innovazione nel IoT Industria
 le'\n\n\nQ&A\n\n\n\n17.30 - 18.00\n\nKeynote\n\nGALILEO Visionary District
  e Scuola Italiana Design - Tommaso Morbiato\, responsabile area IOT e doc
 ente\n\n\n\n18.00 - 19.00\n\nAperitivo e networking\n https://takethedate.
 it/Eventi/8598-iot-connected-design-la-monetizzazione-dei-servizi-legati-a
 i-prodotti-connessi.html
DTSTART:20181019T130000Z
DTEND:20181019T170000Z
LOCATION:t2i - trasferimento tecnologico e innovazione Treviso (Piazza dell
 e Istituzioni 34/a\, Treviso)
SUMMARY:IoT Connected Design: la monetizzazione dei servizi legati ai prodo
 tti connessi
URL:https://takethedate.it/Eventi/8598-iot-connected-design-la-monetizzazio
 ne-dei-servizi-legati-ai-prodotti-connessi.html
END:VEVENT
END:VCALENDAR
