BEGIN:VCALENDAR
VERSION:2.0
PRODID:-//https://takethedate.it///NONSGML kigkonsult.se iCalcreator 2.10.15//
METHOD:PUBLISH
BEGIN:VEVENT
UID:20260420T055008CEST-8760EbKtC2@https://takethedate.it/
DTSTAMP:20260420T035008Z
DESCRIPTION:Il giorno 20 giugno 2018 è previsto l’evento “Anno europeo del 
 Patrimonio Culturale: cultura tra economia e società” presso la Sala delle
  Conferenze del Museo Archeologico Nazionale di Napoli.\nLa manifestazione
  è organizzata dal Centro Europe Direct Napoli Benevento Avellino LUPT “Ma
 ria Scognamiglio” dell’Università degli Studi di Napoli Federico II in sin
 ergia con il MANN e con la partecipazione di ALES S.p.A.\, del Creative De
 sk Italia del MiBACT\, di Casartigiani Napoli\, del Think Tank Trinità dei
  Monti di Roma.\nLa manifestazione gode del patrocinio morale della Region
 e Campania.\nL’evento ha ricevuto il Marchio dell’Anno europeo del patrimo
 nio culturale 2018 e si focalizzerà sulla cultura e sul patrimonio storico
  artistico intesi come chiavi per aumentare e rinsaldare il sentimento di 
 cittadinanza europeo\, così come vettori per lo sviluppo e la coesione soc
 io-economica.A tal fine\, all’evento parteciperanno esperti\, dirigenti\, 
 professionisti\, accademici che saranno coinvolti nei dibattiti i quali pe
 rmetteranno di analizzare ed approfondire la poliedricità del concetto di 
 patrimonio culturale tangibile ed intangibile\, scandagliato in quattro se
 ssioni principali: “Cultura ed identità europea”\, “Arte\, patrimonio cult
 urale e sviluppo economico”\, “La cultura tra sostenibilità e fiscalità”\,
  “Arte\, patrimonio culturale e sviluppo socioculturale”.\nSi comunica che
  l’evento è in fase di accreditamento presso l’ODCEC di Napoli ed attribui
 rà ai partecipanti commercialisti fino a n. 3 CFP (crediti formativi profe
 ssionali). https://takethedate.it/Eventi/6339-anno-europeo-del-patrimonio-
 culturale-cultura-tra-economia-e-societa.html
DTSTART:20180620T070000Z
DTEND:20180620T110000Z
LOCATION:Museo Archeologico Nazionale di Napoli (Piazza Museo 19\, Napoli)
SUMMARY:Anno europeo del Patrimonio Culturale: cultura tra economia e socie
 tà
URL:https://takethedate.it/Eventi/6339-anno-europeo-del-patrimonio-cultural
 e-cultura-tra-economia-e-societa.html
END:VEVENT
END:VCALENDAR
