BEGIN:VCALENDAR
VERSION:2.0
PRODID:-//https://takethedate.it///NONSGML kigkonsult.se iCalcreator 2.10.15//
METHOD:PUBLISH
BEGIN:VEVENT
UID:20260425T184318CEST-78565WUt7x@https://takethedate.it/
DTSTAMP:20260425T164318Z
DESCRIPTION: https://takethedate.it/Eventi/52601-sicurezza-il-rafforzamento
 -del-ruolo-delle-guardie-giurate.html
DTSTART:20260427T123000Z
DTEND:20260427T153000Z
LOCATION:Roma (Roma)
SUMMARY:Sicurezza - Il rafforzamento del ruolo delle guardie giurate
URL:https://takethedate.it/Eventi/52601-sicurezza-il-rafforzamento-del-ruol
 o-delle-guardie-giurate.html
END:VEVENT
END:VCALENDAR
