BEGIN:VCALENDAR
VERSION:2.0
PRODID:-//https://takethedate.it///NONSGML kigkonsult.se iCalcreator 2.10.15//
METHOD:PUBLISH
BEGIN:VEVENT
UID:20260425T185147CEST-4145I5PDFN@https://takethedate.it/
DTSTAMP:20260425T165147Z
DESCRIPTION:Alle 9.20\, presso l'Aula dei Gruppi parlamentari della Camera 
 si svolge il convegno 'Accoglienza delle fragilità: realtà\, testimonianze
  e prospettive'. Saluto del vicepresidente della Camera\, Fabio Rampelli. 
 \n https://takethedate.it/Eventi/52599-accoglienza-delle-fragilita-realta-
 testimonianze-e-prospettive-saluto-di-rampelli.html
DTSTART:20260427T072000Z
DTEND:20260427T102000Z
LOCATION:Roma (Roma)
SUMMARY:Accoglienza delle fragilità: realtà\, testimonianze e prospettive -
  Saluto di Rampelli
URL:https://takethedate.it/Eventi/52599-accoglienza-delle-fragilita-realta-
 testimonianze-e-prospettive-saluto-di-rampelli.html
END:VEVENT
END:VCALENDAR
