BEGIN:VCALENDAR
VERSION:2.0
PRODID:-//https://takethedate.it///NONSGML kigkonsult.se iCalcreator 2.10.15//
METHOD:PUBLISH
BEGIN:VEVENT
UID:20260425T184608CEST-4266b7t0pV@https://takethedate.it/
DTSTAMP:20260425T164608Z
DESCRIPTION:Il libro 'Il Ponte che verrà' di Mario Primo Cavaleri. Su inizi
 ativa del senatore Nello Musumeci https://takethedate.it/Eventi/52596-pres
 entazione-il-libro-il-ponte-che-verra.html
DTSTART:20260427T140000Z
DTEND:20260427T160000Z
LOCATION:Roma (Roma)
SUMMARY:Presentazione: Il libro 'Il Ponte che verrà'
URL:https://takethedate.it/Eventi/52596-presentazione-il-libro-il-ponte-che
 -verra.html
END:VEVENT
END:VCALENDAR
