BEGIN:VCALENDAR
VERSION:2.0
PRODID:-//https://takethedate.it///NONSGML kigkonsult.se iCalcreator 2.10.15//
METHOD:PUBLISH
BEGIN:VEVENT
UID:20260425T000151CEST-3944laTRax@https://takethedate.it/
DTSTAMP:20260424T220151Z
DESCRIPTION:La tappa di Road to Trento 2026 ad Hanoi\, realizzata in collab
 orazione con la Camera di Commercio Italiana in Vietnam\, sarà un momento 
 di confronto operativo tra imprese\, istituzioni e stakeholder sul ruolo d
 elle tecnologie italiane nella transizione green e digitale del settore ma
 nifatturiero.\nL’incontro metterà al centro soluzioni concrete per l’effic
 ienza energetica e l’uso sostenibile delle risorse — dalla gestione di acq
 ua e rifiuti all’ottimizzazione dei processi produttivi — insieme alle più
  recenti applicazioni di automazione avanzata e intelligenza artificiale p
 er la fabbrica.\nParticolare attenzione sarà dedicata ai modelli di access
 o al mercato e al finanziamento\, con un focus sugli strumenti a supporto 
 degli investimenti internazionali\, sulle opportunità offerte da partnersh
 ip pubblico-privatee sui meccanismi di procurement locale.\nAttraverso cas
 i studio ed esperienze dirette\, l’evento offrirà una panoramica pratica d
 elle soluzioni più adatte anche alle PMI\, favorendo il dialogo tra offert
 a tecnologica italiana e domanda industriale vietnamita in una prospettiva
  di sviluppo sostenibile e cooperazione di lungo periodo\, grazie anche al
  ruolo della Camera di Commercio come ponte tra le comunità imprenditorial
 i dei due Paesi. https://takethedate.it/Eventi/52582-green-e-digital-nel-m
 anifatturiero-tecnologie-italiane-per-la-transizione-in-vietnam.html
DTSTART:20260504T080000Z
DTEND:20260504T100000Z
LOCATION:evento online  ()
SUMMARY:Green e Digital nel manifatturiero: tecnologie italiane per la tran
 sizione in Vietnam
URL:https://takethedate.it/Eventi/52582-green-e-digital-nel-manifatturiero-
 tecnologie-italiane-per-la-transizione-in-vietnam.html
END:VEVENT
END:VCALENDAR
