BEGIN:VCALENDAR
VERSION:2.0
PRODID:-//https://takethedate.it///NONSGML kigkonsult.se iCalcreator 2.10.15//
METHOD:PUBLISH
BEGIN:VEVENT
UID:20260423T205156CEST-2555sGdFMv@https://takethedate.it/
DTSTAMP:20260423T185156Z
DESCRIPTION:Il percorso di cura della paziente con carcinoma mammario ha co
 nosciuto negli ultimi decenni un’evoluzione significativa\, grazie ai prog
 ressi terapeutici e organizzativi maturati all’interno delle strutture osp
 edaliere.\nOggi tali esperienze rappresentano una base preziosa per ripens
 are la gestione delle fasi croniche e adiuvanti anche nei nuovi contesti a
 ssistenziali territoriali.\nParticolare attenzione sarà dedicata ad alcune
  criticità emergenti del percorso di cura\, tra cui l’aderenza e la persis
 tenza alle terapie orali\, il rischio di inerzia terapeutica nei follow-up
  e la sostenibilità economica dei modelli assistenziali.\nIn questo contes
 to\, il convegno intende favorire una riflessione condivisa su modelli di 
 presa in carico integrata che coinvolgano specialisti ospedalieri\, profes
 sioni sanitarie\, medici di medicina generale e realtà del terzo settore.
 \nIl confronto tra esperienze e buone pratiche consentirà di analizzare il
  percorso del paziente oncologico anche attraverso strumenti di migliorame
 nto organizzativo\, come i principi della Lean Healthcare\, con l’obiettiv
 o di individuare soluzioni concrete per ottimizzare i flussi assistenziali
 \, ridurre i tempi di attesa e promuovere un sistema sanitario sempre più 
 efficiente\, resiliente e centrato sulla persona.\nL’incontro si propone q
 uindi come occasione di dialogo multidisciplinare per contribuire al migli
 oramento dei servizi oncologici sul territorio della Regione Lombardia.\nO
 RE 8:30 Registrazione partecipanti e Welcome Coffee ORE 9:00 APERTURA E SA
 LUTI ISTITUZIONALI Marco Alparone* Giulio Zucca Maria Teresa Montella PROG
 RAMMA I SESSIONE: LA SFIDA CLINICA E FARMACOLOGICA ORE 10:00 Moderatore: C
 laudio Vernieri L’Inerzia terapeutica nel setting adiuvante e metastatico:
  Riconoscere le barriere all’ottimizzazione della terapia nel lungo termin
 e Alberto Zambelli Vito Ladisa Aderenza e Persistenza: Il ruolo della farm
 acia ospedaliera e territoriale nel monitoraggio del consumo farmaceutico 
 e nella riconciliazione terapeutica LETTURA MAGISTRALE: LO SCENARIO EPIDEM
 IOLOGICO ED ECONOMICO Discussant: Alessandro Scardoni ORE 9:15 Cosa abbiam
 o imparato: evoluzione della sopravvivenza e del percorso del paziente Cla
 udio Vernieri Davide Croce L’impatto economico: cosa cambia nel finanziame
 nto del SSN e nella sua sostenibilità ORE 10:30 Coffee Break *invitato II 
 SESSIONE: LA MULTIDISCIPLINARIETÀ NEL TERRITORIO ORE 10:45 Moderatore: Dav
 ide Croce Il Medico di Medicina Generale (MMG): Primo attore nella sorvegl
 ianza delle comorbidità e sentinella dell’aderenza domiciliare Ivan Carrar
 a Silvia Pazzaglia L’Infermiere di Famiglia e Comunità (IFeC): Educazione 
 terapeutica e gestione degli eventi avversi al domicilio per prevenire l’a
 bbandono delle cure Gabriella Pravettoni Lo Pisco-oncologo: L’impatto del 
 distress emotivo sulla compliance terapeutica: strumenti di intervento pre
 coce Riccardo Caccialanza Il Nutrizionista Clinico: Gestione del peso corp
 oreo e sindrome metabolica come fattori prognostici: la nutrizione come “t
 erapia aggiuntiva” Davide Scaramuzza Il Radiologo: le liste di attesa e l’
 accesso alla diagnostica per immagini TAVOLA ROTONDA: IL VALORE DEL TERZO 
 SETTORE ORE 12:00 Moderatore: Alessandro Scardoni Oltre la clinica: il Wel
 fare di comunità Norberto Venturi\, Consiglio Direttivo Nazionale LILT\; A
 dele Patrini\, Presidente Associazione C.A.O.S.\; Alice Speroni\, Assisten
 te sociale Fondazione INT ORE 12:45 TAKE HOME MESSAGES E DISCUSSIONE Claud
 io Vernieri Sintesi delle evidenze emerse e Conclusioni Mario Melazzini OR
 E 13:15 CHIUSURA DEI LAVORI E LIGHT LUNCH https://takethedate.it/Eventi/52
 521-il-continuum-assistenziale-nel-carcinoma-mammario.html
DTSTART:20260427T063000Z
DTEND:20260427T113000Z
LOCATION:Milano (Milano)
SUMMARY:Il continuum assistenziale nel carcinoma mammario
URL:https://takethedate.it/Eventi/52521-il-continuum-assistenziale-nel-carc
 inoma-mammario.html
END:VEVENT
END:VCALENDAR
