BEGIN:VCALENDAR
VERSION:2.0
PRODID:-//https://takethedate.it///NONSGML kigkonsult.se iCalcreator 2.10.15//
METHOD:PUBLISH
BEGIN:VEVENT
UID:20260423T134202CEST-62650JB8ed@https://takethedate.it/
DTSTAMP:20260423T114202Z
DESCRIPTION:Giovedì 23 aprile 2026\, alle ore 11.00\, presso la Sala Regina
  della Camera dei Deputati\, si terrà la presentazione del 3° Rapporto One
  Health “Il valore sociale delle città. Periferie vitali: la nuova frontie
 ra del vivere urbano”\, realizzato dal Campus Bio-Medico di Roma in collab
 orazione con l’Istituto Piepoli. La ricerca analizza le prospettive di svi
 luppo delle aree urbane italiane\, approfondendo il confronto tra periferi
 e e centro\, la necessità della rigenerazione degli spazi e la tutela del 
 tessuto sociale. I temi sono affrontati attraverso il modello One Health\,
  un approccio integrato che considera la salute umana\, animale ed ecosist
 emica in una visione complessiva volta a ripensare le città e i luoghi in 
 modo sostenibile e interdisciplinare.\n \nInterverranno all’evento: France
 sco Battistoni\, Segretario di Presidenza della Camera\; Maria Teresa Bell
 ucci\, Vice Ministro del Lavoro e delle Politiche Sociali\; Raffaele Fitto
 \, Vice Presidente Esecutivo della Commissione Europea e Commissario Europ
 eo per la Politica di Coesione\, lo Sviluppo regionale e le città\; Robert
 o Gualtieri\, Sindaco di Roma Capitale\; Ugo Cappellacci\, Presidente dell
 a Commissione Affari Sociali della Camera\; Federico Mollicone\, President
 e della Commissione Cultura\, Scienza e Istruzione della Camera\; Alessand
 ro Battilocchio\, Presidente Commissione parlamentare di inchiesta sulle c
 ondizioni di sicurezza e sullo stato di degrado delle città e delle loro p
 eriferie\; Luciano Ciocchetti\, Vice Presidente della Commissione Affari S
 ociali della Camera\; Francesco Rutelli\, Fondatore e Presidente del Soft 
 Power Club\; Maria Alessandra Gallone\, Presidente ISPRA\; Roberto Pella\,
  Vice Presidente e Delegato Sport e Salute ANCI\, in rappresentanza del Pr
 esidente Gaetano Manfredi\; Carlo Tosti\, Presidente Università Campus Bio
 -Medico e Fondazione Policlinico UCBM\; Barbara Acreman\, Direttore Genera
 le per la Casa e la Riqualificazione Urbana del Ministero delle Infrastrut
 ture e dei Trasporti\; Filippo Bonanni\, Direttore Centrale Salute e Prest
 azioni di disabilità INPS\; Maria Piccarreta\, Dirigente del servizio III 
 della Direzione Generale Creatività Contemporanea del Ministero della Cult
 ura\; Giuseppe Di Giacomo Pepe\, Capo della Segreteria Tecnica del Sottose
 gretario alla Presidenza del Consiglio Luigi Sbarra\; Matteo Caroli\, Asso
 ciate Dean for Sustainability and Impact Luiss Guido Carli\; Domenico Mast
 rolitto\, Direttore Generale Campus Bio-Medico SpA\; Livio Gigliuto\, Pres
 idente Istituto Piepoli.\n \nL’evento ha il patrocinio del Ministero delle
  Infrastrutture e dei Trasporti\, del Ministero della Cultura\, del Minist
 ero del Lavoro e delle Politiche Sociali\, del Ministero dell’Ambiente e d
 ella Sicurezza Energetica\, della Regione Lazio e di Roma Capitale e il su
 pporto di ISPRA\, con la Campagna Facciamo Circolare realizzata da ISPRA i
 n collaborazione e con il finanziamento del MIMIT.\n \nSarà possibile segu
 ire l’evento sulla web tv della Camera al seguente link: https://webtv.cam
 era.it/evento/31050\n  https://takethedate.it/Eventi/52498-il-valore-socia
 le-delle-citta-periferie-vitali-la-nuova-frontiera-del-vivere-urbano.html
DTSTART:20260423T090000Z
DTEND:20260423T110000Z
LOCATION:Roma (Roma)
SUMMARY:Il valore sociale delle città. Periferie vitali: la nuova frontiera
  del vivere urbano
URL:https://takethedate.it/Eventi/52498-il-valore-sociale-delle-citta-perif
 erie-vitali-la-nuova-frontiera-del-vivere-urbano.html
END:VEVENT
END:VCALENDAR
