BEGIN:VCALENDAR
VERSION:2.0
PRODID:-//https://takethedate.it///NONSGML kigkonsult.se iCalcreator 2.10.15//
METHOD:PUBLISH
BEGIN:VEVENT
UID:20260423T130819CEST-6135R8PNvW@https://takethedate.it/
DTSTAMP:20260423T110819Z
DESCRIPTION:The Espresso Book Club is a series dedicated to presenting the 
 debut books of young researchers in social political sciences.\nSpeakerGio
 vanni Lella Postdoctoral Researcher\, Luiss \nDiscussantsGaetano Quagliari
 ello Dean Luiss School of Government Marc Lazar President Luiss School of 
 Government\nRegistration https://takethedate.it/Eventi/52431-espresso-book
 -club.html
DTSTART:20260423T103000Z
DTEND:20260423T133000Z
LOCATION:Roma (Roma)
SUMMARY:Espresso book club
URL:https://takethedate.it/Eventi/52431-espresso-book-club.html
END:VEVENT
END:VCALENDAR
