BEGIN:VCALENDAR
VERSION:2.0
PRODID:-//https://takethedate.it///NONSGML kigkonsult.se iCalcreator 2.10.15//
METHOD:PUBLISH
BEGIN:VEVENT
UID:20260423T130800CEST-2615hEhg8B@https://takethedate.it/
DTSTAMP:20260423T110800Z
DESCRIPTION:L’Università degli Studi Internazionali di Roma – UNINT in occa
 sione della Giornata mondiale del libro e del diritto d’autore organizza u
 n evento che si terrà il 23 aprile a partire dalle ore 11:00 in aula 26b e
  in live streaming. L’evento è a cura della commissione terza missione/imp
 atto sociale di Ateneo e del comitato unico di garanzia PROUD di Ateneo\, 
 in collaborazione con la Fondazione Leonardo Sciascia.\nProgramma: 11:00 |
  Saluti istituzionali Alessandro De Nisco\, Direttore del Dipartimento di 
 Scienze Umanistiche e Sociali Internazionali Calogero Bongiorno\, Sindaco 
 di Recalmuto\n11:30 | Il valore del libro e della lettura Massimo Arcangel
 i\, Professore ordinario\, Università di Cagliari\n11:45 | I libri tra cul
 tura e memoria Edith Cutaia\, Fondazione Leonardo Sciascia\n12:00 | Il gio
 rno della civetta di Leonardo Sciascia Lettura brani a cura di Fabrizio Ca
 talano\, Fondazione Leonardo Sciascia e Roberto M. Iannone\, Attore\, Inca
 ricato di Terza missione UNINT\n12:20 | Interpretare/trasformare. La trasp
 osizione dal libro al cinema Fabrizio Catalano\, Fondazione Leonardo Scias
 cia\n12:35 | La creatività dell’autore al tempo dell’IA Anna Carla Nazzaro
 \, Professoressa ordinaria UNINT\n13:00 | Conclusioni Antonella Ercolani\,
  Prorettrice alla Terza missione/impatto sociale e Presidente CUG\nEvento 
 valido per il riconoscimento di un punteggio aggiuntivo per i soli student
 i immatricolati all’a.a. 2025/2026 che partecipano in presenza. https://ta
 kethedate.it/Eventi/52430-giornata-mondiale-del-libro-e-del-diritto-dautor
 e.html
DTSTART:20260423T090000Z
DTEND:20260423T110000Z
LOCATION:Roma (Roma)
SUMMARY:Giornata mondiale del libro e del diritto d'autore
URL:https://takethedate.it/Eventi/52430-giornata-mondiale-del-libro-e-del-d
 iritto-dautore.html
END:VEVENT
END:VCALENDAR
