BEGIN:VCALENDAR
VERSION:2.0
PRODID:-//https://takethedate.it///NONSGML kigkonsult.se iCalcreator 2.10.15//
METHOD:PUBLISH
BEGIN:VEVENT
UID:20260421T210323CEST-0584DD9CTD@https://takethedate.it/
DTSTAMP:20260421T190323Z
DESCRIPTION:Roma: evento 'Growing together through partnership. How Venture
  Capital in Italy and Kenya can drive the next wave of innovation'\, promo
 sso dall'Italy-Kenya Business Forum. Ore 9\,30. Partecipano\, tra gli altr
 i\, Adolfo Urso\, ministro delle Imprese e del Made in Italy\; William Sam
 oei Ruto\, presidente della Repubblica del Kenya. Presso Palazzo Generali.
  https://takethedate.it/Eventi/52423-growing-together-through-partnership-
 how-venture-capital-in-italy-and-kenya-can-drive-the-next-wave-of-innovati
 on.html
DTSTART:20260422T073000Z
DTEND:20260422T103000Z
LOCATION:Roma (Roma)
SUMMARY:Growing together through partnership. How Venture Capital in Italy 
 and Kenya can drive the next wave of innovation
URL:https://takethedate.it/Eventi/52423-growing-together-through-partnershi
 p-how-venture-capital-in-italy-and-kenya-can-drive-the-next-wave-of-innova
 tion.html
END:VEVENT
END:VCALENDAR
