BEGIN:VCALENDAR
VERSION:2.0
PRODID:-//https://takethedate.it///NONSGML kigkonsult.se iCalcreator 2.10.15//
METHOD:PUBLISH
BEGIN:VEVENT
UID:20260421T210139CEST-9746KGnwnu@https://takethedate.it/
DTSTAMP:20260421T190139Z
DESCRIPTION:L’evento conclusivo del progetto “Empowerment Finanziario: Le c
 hiavi per gestire le tue risorse con consapevolezza”\, realizzato con Wome
 n of Change Italia\, segna la chiusura del percorso di educazione finanzia
 ria e il passaggio dalla conoscenza all’azione.\nUn momento di confronto e
  testimonianza dedicato a consapevolezza\, autonomia e libertà decisionale
 \, per trasformare ciò che è stato appreso in scelte concrete e nuove pros
 pettive di crescita personale e finanziaria. https://takethedate.it/Eventi
 /52415-consapevolezza-finanziaria-il-percorso-verso-lindipendenza.html
DTSTART:20260422T163000Z
DTEND:20260422T183000Z
LOCATION:evento online  ()
SUMMARY:Consapevolezza finanziaria: il percorso verso l’indipendenza
URL:https://takethedate.it/Eventi/52415-consapevolezza-finanziaria-il-perco
 rso-verso-lindipendenza.html
END:VEVENT
END:VCALENDAR
