BEGIN:VCALENDAR
VERSION:2.0
PRODID:-//https://takethedate.it///NONSGML kigkonsult.se iCalcreator 2.10.15//
METHOD:PUBLISH
BEGIN:VEVENT
UID:20260421T211703CEST-1295GfTnvN@https://takethedate.it/
DTSTAMP:20260421T191703Z
DESCRIPTION:Cultura. Mercoledì alla Camera presentazione del volume “L’Afri
 ca in deposito” \n \nMercoledì 22 alle 14.30\, nella sala stampa della Cam
 era dei Deputati\, è in programma la presentazione del volume 'L’Africa in
  deposito. Collezioni coloniali italiane nei musei Euregio” a cura di Nico
 la Labanca e Davide Zendri\, Museo Storico Italiano della Guerra di Rovere
 to\, MITAG.  Il volume restituisce il lavoro di ricerca\, catalogazione e 
 mappatura delle collezioni coloniali conservate nei musei del territorio E
 uregio\, Trentino\, Alto Adige e Tirolo. Uno strumento di consultazione si
 stematico che mappa i patrimoni coloniali rimasti per decenni nei depositi
  museali fra cui armi africane\, uniformi\, cimeli e fotografie che docume
 ntano un passato spesso dimenticato. Interverranno Alessandro Urzì\, capog
 ruppo in commissione Affari Costituzionali della Camera\, che ha curato e 
 promosso l’iniziativa\; il Presidente della Commissione Cultura a Montecit
 orio Federico Mollicone e Alessandro Amorese\, capogruppo in commissione C
 ultura della Camera\, tutti di Fratelli d’Italia. Saranno presenti inoltre
  Oswald Mederle\, presidente del MITAG\, Francesco Frizzera\, direttore de
 l MITAG\, Davide Zendri\, curatore del volume e conservatore del MITAG. ht
 tps://takethedate.it/Eventi/52392-presentazione-del-volume-lafrica-in-depo
 sito.html
DTSTART:20260422T123000Z
DTEND:20260422T143000Z
LOCATION:Roma (Roma)
SUMMARY:Presentazione del volume: “L’Africa in deposito” 
URL:https://takethedate.it/Eventi/52392-presentazione-del-volume-lafrica-in
 -deposito.html
END:VEVENT
END:VCALENDAR
