BEGIN:VCALENDAR
VERSION:2.0
PRODID:-//https://takethedate.it///NONSGML kigkonsult.se iCalcreator 2.10.15//
METHOD:PUBLISH
BEGIN:VEVENT
UID:20260421T212011CEST-7733huPZVb@https://takethedate.it/
DTSTAMP:20260421T192011Z
DESCRIPTION:\nGiovedì 23 aprile\, alle ore 9.00\, presso l'Aula Mauro Wolf 
 in Via Salaria 113\, si terrà il primo appuntamento del ciclo di seminari 
 intitolato L’infrastruttura del tutto e dedicato ai temi della cybersecuri
 ty e dell'intelligenza artificiale. \nNelle situazioni di tensione geopoli
 tica la disinformazione aumenta. Se nel passato si era soliti dire che la 
 prima vittima delle guerre è la verità\, oggi questo appare vero anche in 
 tempo di pace e nel corso dei conflitti ibridi\, sotto la soglia del confl
 itto aperto. Accade anche che gli attacchi cinetici siano accompagnati dag
 li attacchi cibernetici ed entrambi vengano legittimati dalla disinformazi
 one. Propaganda e disinformazione viaggiano velocemente nei social. Second
 o AI Forensics l’80% dei contenuti prodotti da TikTok sono artificiali. Le
  notizie dopate con contenuti fotorealistici di origine sintetica sono la 
 nuova sfida per chi deve analizzare le fonti e riportare i fatti all’opini
 one pubblica. I giornalisti\, inoltre\, si trovano a gareggiare con youtub
 er\, influencer e opinionisti social. La verità sostanziale dei fatti dive
 nta sempre più difficile da raccontare.\nInterverranno Sara Bentivegna\, d
 ocente di Media politics presso il Coris Sapienza\; Laura Camilloni\, gior
 nalista di AgenParl\; Riccardo Cavaliere\, giornalista di Rainews24\; Artu
 ro Di Corinto\, giornalista e consigliere Acn\; Stefano Ferrante\, giornal
 ista e segretario presso Stampa Romana\; Elisa Giomi\, commissaria Agcom\,
  Marco Ramilli\, ceo IdentifAI\, Christian Ruggiero\, docente di Giornalis
 mo radiotv presso il Coris Sapienza\, Luciano Tirinnanzi\, editore e giorn
 alista di Panorama. \n\n\n Programma seminari\n https://takethedate.it/Eve
 nti/52382-disinformazione-e-deepfake-la-democrazia-in-pericolo.html
DTSTART:20260423T070000Z
DTEND:20260423T100000Z
LOCATION:Roma (Roma)
SUMMARY:Disinformazione e deepfake: la democrazia in pericolo
URL:https://takethedate.it/Eventi/52382-disinformazione-e-deepfake-la-democ
 razia-in-pericolo.html
END:VEVENT
END:VCALENDAR
