BEGIN:VCALENDAR
VERSION:2.0
PRODID:-//https://takethedate.it///NONSGML kigkonsult.se iCalcreator 2.10.15//
METHOD:PUBLISH
BEGIN:VEVENT
UID:20260423T133333CEST-2003V7VMPw@https://takethedate.it/
DTSTAMP:20260423T113333Z
DESCRIPTION:INTRODUZIONE Daria Perrotta\, Ragioniere generale dello Stato\n
 INTERVENTI Sonia Caffù\, Ispettorato generale per la finanza delle Pubblic
 he Amministrazioni – RGS\, MEF Michelangelo Quaglia\, PagoPA Francesca Cap
 piello\, Unità di missione NG EU – RGS\, MEF Alfonso Carfora\, Università 
 degli Studi di Macerata\nDISCUSSIONE GENERALE Stefano Baldoni\, Comune di 
 Perugia Marco Iacobucci\, Comune di Roma Simone Simeone\, Comune di Tarant
 o Danilo Carullo\, Direzione studi e ricerche economico fiscali – Dipartim
 ento delle Finanze\, MEF Andrea Ferri\, Istituto per la Finanza e l’Econom
 ia Locale – ANCI\nMODERAZIONE Aline Pennisi\, Unità di missione NG EU – RG
 S\, MEF\nLa capacità di riscossione dei Comuni costituisce una variabile s
 trutturale fondamentale per la sana gestione del bilancio e la tenuta dei 
 sistemi di finanza decentrata.\nSulle differenze marcate nella capacità di
  incasso tra Nord e Sud\, Comuni piccoli e grandi\, contano le condizioni 
 economico-sociali dei contribuenti ma anche fattori quali l’evasione\, lim
 iti amministrativi\, inefficienze procedurali.\nIn relazione a tali fattor
 i\, il processo di digitalizzazione dei sistemi di incasso rappresenta un’
 occasione importante.\nIn particolare\, l’infrastruttura di PagoPA - accel
 erata dal PNRR - potrebbe contribuire a migliorare la capacità degli enti 
 di trasformare gli accertamenti contabili in risorse effettivamente dispon
 ibili\, migliorando l’efficienza operativa degli enti pubblici\, riducendo
  gli oneri burocratici e incentivando la propensione al pagamento da parte
  di cittadini e imprese.\nIl seminario intende discutere i primi risultati
  di un progetto di ricerca volto a valutare gli effetti dell’adozione di P
 agoPA sulla capacità di riscossione dei Comuni. https://takethedate.it/Eve
 nti/52369-gli-investimenti-pnrr-per-il-rafforzamento-delladozione-dei-serv
 izi-della-piattaforma-pagopa-da-parte-dei-comuni.html
DTSTART:20260424T080000Z
DTEND:20260424T110000Z
LOCATION:Roma (Roma)
SUMMARY:Gli investimenti PNRR per il rafforzamento dell’adozione dei serviz
 i della piattaforma PAGOPA da parte dei comuni
URL:https://takethedate.it/Eventi/52369-gli-investimenti-pnrr-per-il-raffor
 zamento-delladozione-dei-servizi-della-piattaforma-pagopa-da-parte-dei-com
 uni.html
END:VEVENT
END:VCALENDAR
