BEGIN:VCALENDAR
VERSION:2.0
PRODID:-//https://takethedate.it///NONSGML kigkonsult.se iCalcreator 2.10.15//
METHOD:PUBLISH
BEGIN:VEVENT
UID:20260422T113541CEST-4820swlRjw@https://takethedate.it/
DTSTAMP:20260422T093541Z
DESCRIPTION:l 22 aprile\, Giornata Mondiale della Terra\, CONAI porta la re
 sponsabilità e la sostenibilità al centro del dibattito giornalistico nazi
 onale. Nella 1ª Conferenza Nazionale 'Sostenibilità e giornalismo responsa
 bile' rappresentanti delle istituzioni\, giornalisti ed esperti discuteran
 no di: \n\ngreen economy tra fatti e narrazioni\naffidabilità delle fonti 
 e disinformazione nell’informazione ambientale\nresponsabilità editoriale 
 nell'era della complessità\ndati\, trasparenza e responsabilità \n\nSegui 
 la diretta dell’evento sul nostro canale YouTube: 22 aprile 2026 9:30 – 13
 :30 https://youtube.com/live/ADEbfGTgPmg  https://takethedate.it/Eventi/52
 368-conferenza-nazionale-sostenibilita-e-giornalismo-responsabile.html
DTSTART:20260422T073000Z
DTEND:20260422T113000Z
LOCATION:evento online  ()
SUMMARY:Conferenza Nazionale 'Sostenibilità e giornalismo responsabile'
URL:https://takethedate.it/Eventi/52368-conferenza-nazionale-sostenibilita-
 e-giornalismo-responsabile.html
END:VEVENT
END:VCALENDAR
