BEGIN:VCALENDAR
VERSION:2.0
PRODID:-//https://takethedate.it///NONSGML kigkonsult.se iCalcreator 2.10.15//
METHOD:PUBLISH
BEGIN:VEVENT
UID:20260421T211310CEST-6621d8fRvB@https://takethedate.it/
DTSTAMP:20260421T191310Z
DESCRIPTION:Roma: conferenza stampa di Novo Nordisk 'Progetto ReMed: da rif
 iuti a risorsa\, un'alleanza per l'ambiente'. Ore 12\,00. Presso la sede A
 nci\, via dei Prefetti 46. https://takethedate.it/Eventi/52337-progetto-re
 med-da-rifiuti-a-risorsa-unalleanza-per-lambiente.html
DTSTART:20260422T100000Z
DTEND:20260422T120000Z
LOCATION:Roma (Roma)
SUMMARY:Progetto ReMed: da rifiuti a risorsa\, un'alleanza per l'ambiente
URL:https://takethedate.it/Eventi/52337-progetto-remed-da-rifiuti-a-risorsa
 -unalleanza-per-lambiente.html
END:VEVENT
END:VCALENDAR
