BEGIN:VCALENDAR
VERSION:2.0
PRODID:-//https://takethedate.it///NONSGML kigkonsult.se iCalcreator 2.10.15//
METHOD:PUBLISH
BEGIN:VEVENT
UID:20260422T115954CEST-3956uAu9Gg@https://takethedate.it/
DTSTAMP:20260422T095954Z
DESCRIPTION:Nuove norme sulla cittadinanza per i testimoni di giustizia. Pr
 esentazione del disegno di legge di modifica all’art. 9 comma 2 della legg
 e 5 febbraio 1992\, n. 92. Su iniziativa del senatore Walter Verini https:
 //takethedate.it/Eventi/52307-nuove-norme-sulla-cittadinanza-per-i-testimo
 ni-di-giustizia.html
DTSTART:20260420T120000Z
DTEND:20260420T150000Z
LOCATION:Roma (Roma)
SUMMARY:Nuove norme sulla cittadinanza per i testimoni di giustizia
URL:https://takethedate.it/Eventi/52307-nuove-norme-sulla-cittadinanza-per-
 i-testimoni-di-giustizia.html
END:VEVENT
END:VCALENDAR
