BEGIN:VCALENDAR
VERSION:2.0
PRODID:-//https://takethedate.it///NONSGML kigkonsult.se iCalcreator 2.10.15//
METHOD:PUBLISH
BEGIN:VEVENT
UID:20260421T210820CEST-1348VcoouH@https://takethedate.it/
DTSTAMP:20260421T190820Z
DESCRIPTION:Sviluppo sostenibile ed empowerment della comunità.In occasione
  della Giornata Mondiale della Terra\, il 22 aprile 2026 la città di Perug
 ia ospita un convegno dal titolo “Sviluppo sostenibile ed empowerment dell
 a comunità – L’azione locale per il miglior benessere possibile ora e in f
 uturo”.\nL’iniziativa è promossa dall’associazione Explore APS\, realtà da
  sempre impegnata nella promozione della salute umana\, animale\, ambienta
 le e della tutela globale del pianeta\; l’organizzazione è coadiuvata dal 
 Cesvol Umbria ETS.\nLa riflessione culturale ha come filo conduttore la pr
 ospettiva One Health: un approccio sistemico che mira a superare la tradiz
 ionale visione antropocentrica di salute/malattia\, per focalizzare lo sgu
 ardo sul fatto che il benessere umano\, animale e ambientale sono indissol
 ubilmente legati\, rendendo la salute del Pianeta una precondizione essenz
 iale e non negoziabile per la salute di tutti i suoi abitanti. Si vuole of
 frire uno spazio di analisi e di confronto sincero e costruttivo tra esper
 ti\, cittadini e decisori politici\, tenendo in conto ciò a cui l’Agenda 2
 030\, promossa ed approvata dalle Nazioni Unite nel 2015\, ci richiama cos
 tantemente per perseguire i suoi 17 obiettivi: un piano di azione globale 
 per le persone\, il Pianeta e la prosperità.\nRiteniamo importante esplici
 tare\, per quanto possibile\, le strategie globali e le azioni concrete su
 l territorio utili per la salvaguardia e la cura del contesto di vita e di
  lavoro\, nel nostro unico pianeta\, ora e per le generazioni future\; si 
 punterà\, inoltre\, a valorizzare il ruolo cruciale delle istituzioni\, de
 lle reti territoriali e della cittadinanza attiva che si fa comunità compe
 tente. https://takethedate.it/Eventi/52283-sviluppo-sostenibile-ed-empower
 ment-della-comunita.html
DTSTART;VALUE=DATE:20260422
LOCATION:Perugia ()
SUMMARY:Sviluppo sostenibile ed empowerment della comunità
URL:https://takethedate.it/Eventi/52283-sviluppo-sostenibile-ed-empowerment
 -della-comunita.html
END:VEVENT
END:VCALENDAR
