BEGIN:VCALENDAR
VERSION:2.0
PRODID:-//https://takethedate.it///NONSGML kigkonsult.se iCalcreator 2.10.15//
METHOD:PUBLISH
BEGIN:VEVENT
UID:20260421T034232CEST-2155ZBHsa6@https://takethedate.it/
DTSTAMP:20260421T014232Z
DESCRIPTION:Martedì 21 aprile prende forma un progetto importante per il fu
 turo del nostro settore: nasce l’Alleanza per il Pane. Un’iniziativa che m
 ette al centro il pane\, simbolo della nostra cultura\, della tradizione e
  del Made in Italy\, come leva di sviluppo economico e identitario.\n L’ap
 puntamento è alle ore 11:00 presso il Parlamentino del Ministero delle Imp
 rese e del Made in Italy nell’ambito della Giornata Nazionale del Made in 
 Italy.\nInterverrà il Sen. Adolfo Urso\, Ministro delle Imprese e del Made
  in Italy\, insieme alle principali realtà della filiera ASSITOL\, FIPPA\,
  ASSIPAN\, AIBI oltre a qualificati rappresentanti del mondo fieristico e 
 della formazione\, tra cui IEG e In Cibum e Richemont Club Italia.\n Al te
 rmine dell’incontro verrà firmata ufficialmente l’Alleanza: una rete apert
 a e collaborativa tra imprese\, panificatori\, scuole ed enti di formazion
 e\, uniti per difendere e promuovere uno dei prodotti più rappresentativi 
 della nostra identità. https://takethedate.it/Eventi/52272-unalleanza-per-
 il-pane.html
DTSTART:20260421T090000Z
DTEND:20260421T110000Z
LOCATION:Roma (Roma)
SUMMARY:Un'alleanza per il pane
URL:https://takethedate.it/Eventi/52272-unalleanza-per-il-pane.html
END:VEVENT
END:VCALENDAR
