BEGIN:VCALENDAR
VERSION:2.0
PRODID:-//https://takethedate.it///NONSGML kigkonsult.se iCalcreator 2.10.15//
METHOD:PUBLISH
BEGIN:VEVENT
UID:20260423T134235CEST-38832BePmk@https://takethedate.it/
DTSTAMP:20260423T114235Z
DESCRIPTION:È possibile uno sradicamento della malaria? E quali sono le pri
 orità per raggiungere questo obiettivo? In occasione della Giornata Mondia
 le della Malaria\, l’Istituto Affari Internazionali (IAI) organizza un web
 inar sulle strategie di cooperazione per garantire il diritto alla salute 
 su scala globale.\nSi discuterà dell'impatto globale della malaria e del l
 egame tra cambiamento climatico e diffusione della malattia e del crescent
 e rischio di una sua espansione in nuove aree geografiche.\nUna tavola rot
 onda con rappresentanti di istituzioni nazionali\, organizzazioni internaz
 ionali e società civile analizzerà i progressi compiuti verso lo sradicame
 nto della malaria\, le condizioni per raggiungere questo obiettivo e i pri
 ncipali ostacoli che vi si frappongono.\nSi farà il punto sulle principali
  innovazioni nel campo dei vaccini\, dei farmaci e della diagnostica e pre
 venzione\, e sul ruolo dei partenariati pubblico-privati.\nParticolare att
 enzione sarà dedicata al contributo della ricerca e dell'industria italian
 a nella lotta globale contro le malattie infettive e nella protezione dell
 e comunità più vulnerabili. https://takethedate.it/Eventi/52256-limpatto-g
 lobale-della-malaria-strategie-per-la-prevenzione-e-lo-sradicamento.html
DTSTART:20260423T133000Z
DTEND:20260423T163000Z
LOCATION:evento online  ()
SUMMARY:L’impatto globale della malaria: strategie per la prevenzione e lo 
 sradicamento
URL:https://takethedate.it/Eventi/52256-limpatto-globale-della-malaria-stra
 tegie-per-la-prevenzione-e-lo-sradicamento.html
END:VEVENT
END:VCALENDAR
