BEGIN:VCALENDAR
VERSION:2.0
PRODID:-//https://takethedate.it///NONSGML kigkonsult.se iCalcreator 2.10.15//
METHOD:PUBLISH
BEGIN:VEVENT
UID:20260423T133449CEST-7901kcIvsw@https://takethedate.it/
DTSTAMP:20260423T113449Z
DESCRIPTION:Elettricità Futura patrocina l'evento Utility Day 2026 che si t
 errà a Milano il 9 giugno p.v. Il mercato energetico globale attraversa un
 a fase di forte instabilità\, tra tensioni geopolitiche\, volatilità dei p
 rezzi e incertezze nelle forniture\, con impatti diretti su operatori e co
 nsumatori.\nL’aumento dei costi e le criticità su gas e GNL mettono sotto 
 pressione le società di vendita\, esponendole a nuovi rischi e complessità
  operative. In questo contesto dinamico\, il confronto e la collaborazione
  tra operatori sono fondamentali per garantire sicurezza energetica\, sost
 enibilità dei prezzi e competitività.\nResta aggiornato in esclusiva sui n
 uovi trend di mercato e l’applicazione concreta delle nuove tecnologie.\nU
 tility Day torna dopo 6 mesi perché: è nel mercato rileva costantemente le
  esigenze dei Manager del Settore Energy & Utility è la tua bussola per il
  mercato energetico b2c per navigare nel contesto incerto attuale Partecip
 a e trova INSIGHT e ISPIRAZIONE per dare forma alla tua strategia.\nUnisci
 ti il 9 giugno a Milano alla più coesa e dinamica Community di Energy Rese
 ller\, che da 12 anni si ritrova a Utility Day per esplorare gli strumenti
  e le sfide necessarie a rimanere resilienti nel mercato.\n\n Programma \n
  https://takethedate.it/Eventi/52231-i-principali-risultati-del-censimento
 -permanente-della-popolazione-nelle-regioni-italiane.html
DTSTART:20260430T080000Z
DTEND:20260430T100000Z
LOCATION:evento online  ()
SUMMARY:I principali risultati del censimento permanente della popolazione 
 nelle regioni italiane
URL:https://takethedate.it/Eventi/52231-i-principali-risultati-del-censimen
 to-permanente-della-popolazione-nelle-regioni-italiane.html
END:VEVENT
END:VCALENDAR
