BEGIN:VCALENDAR
VERSION:2.0
PRODID:-//https://takethedate.it///NONSGML kigkonsult.se iCalcreator 2.10.15//
METHOD:PUBLISH
BEGIN:VEVENT
UID:20260422T113125CEST-6566fSvKkX@https://takethedate.it/
DTSTAMP:20260422T093125Z
DESCRIPTION:WEBINAR22 APRILE 2026 | ORARIO 17:00 – 18:15\nLe evidenze scien
 tifiche degli ultimi anni hanno consolidato il ruolo dell’attività fisica 
 come componente fondamentale nella gestione del paziente oncologico\, sia 
 durante che dopo il trattamento. L’esercizio fisico regolare si associa a 
 una riduzione del rischio di recidiva\, a un miglioramento della qualità d
 i vita e a una migliore tolleranza alle terapie oncologiche. Patologie ad 
 alta incidenza come il carcinoma polmonare non a piccole cellule\, il carc
 inoma colorettale e il carcinoma mammario rappresentano ambiti nei quali l
 ’integrazione dell’attività fisica nel percorso di cura appare sempre più 
 supportata dalla letteratura. Ulteriore complessità è rappresentata dalla 
 frequente comorbidità con il diabete mellito\, che richiede un approccio m
 ultidisciplinare condiviso tra oncologi\, diabetologi e altre figure speci
 alistiche.Obiettivo di questo webinar è quello di fare il punto sulle attu
 ali raccomandazioni. https://takethedate.it/Eventi/52197-attivita-fisica-n
 el-paziente-oncologico.html
DTSTART:20260422T150000Z
DTEND:20260422T161500Z
LOCATION:evento online  ()
SUMMARY:Attività fisica nel paziente oncologico
URL:https://takethedate.it/Eventi/52197-attivita-fisica-nel-paziente-oncolo
 gico.html
END:VEVENT
END:VCALENDAR
