BEGIN:VCALENDAR
VERSION:2.0
PRODID:-//https://takethedate.it///NONSGML kigkonsult.se iCalcreator 2.10.15//
METHOD:PUBLISH
BEGIN:VEVENT
UID:20260421T211145CEST-7172NifgE3@https://takethedate.it/
DTSTAMP:20260421T191145Z
DESCRIPTION:Firenze e Online\, 22 aprile 2026\nScarica il programma https:/
 /takethedate.it/Eventi/52196-immunoterapia-e-adc-nei-tumori-ginecologici.h
 tml
DTSTART:20260422T080000Z
DTEND:20260422T160000Z
LOCATION:evento online  ()
SUMMARY:Immunoterapia e ADC nei tumori ginecologici
URL:https://takethedate.it/Eventi/52196-immunoterapia-e-adc-nei-tumori-gine
 cologici.html
END:VEVENT
END:VCALENDAR
