BEGIN:VCALENDAR
VERSION:2.0
PRODID:-//https://takethedate.it///NONSGML kigkonsult.se iCalcreator 2.10.15//
METHOD:PUBLISH
BEGIN:VEVENT
UID:20260423T130843CEST-5696PwCDtd@https://takethedate.it/
DTSTAMP:20260423T110843Z
DESCRIPTION:FORUM TRANSIZIONE DIGITALE 2026\n L'Appuntamento italiano dell'
 innovazione digitale nel settore pubblico\nIl programma dell'evento Sessio
 ni Main Session Main Session 11:00-11:30 Indirizzo di Apertura 11:30-13:00
  Talk Show L’INNOVAZIONE TECNOLOGICA NEL SETTORE PUBBLICO: L’AI E I NUOVI 
 STRUMENTI AL SERVIZIO DI EFFICIENZA\, CONTROLLO E TRASPARENZA DELLA SPESA 
 L’innovazione tecnologica è entrata stabilmente nell’agenda della Pubblica
  Amministrazione e delle organizzazioni a controllo pubblico.\nAccanto all
 e applicazioni più visibili nei servizi al cittadino\, cresce l’attenzione
  verso l’uso di nuove tecnologie – dall’intelligenza artificiale alle piat
 taforme digitali integrate – nei processi interni: gestione dei dati finan
 ziari\, pianificazione delle risorse umane\, supporto ai sistemi informati
 vi e ai processi amministrativi\, fino ad ambiti più operativi come la ges
 tione delle spese di trasferta e dei processi di rendicontazione.\nIn ques
 to contesto\, l’adozione di approcci integrati alla gestione dei processi 
 consente di ridurre attività manuali\, aumentare la produttività delle fun
 zioni amministrative e migliorare il controllo delle spese\, grazie a una 
 maggiore automazione\, visibilità in tempo reale dei dati e una riconcilia
 zione più rapida dei flussi finanziari.\nIn contesti caratterizzati da vin
 coli normativi\, strutture complesse e procedure spesso più rigide rispett
 o al settore privato\, l’introduzione di queste tecnologie solleva interro
 gativi specifici: quali passi sono già stati compiuti?\nIn quali ambiti si
  stanno osservando i risultati più promettenti? E quali ostacoli organizza
 tivi o culturali restano da superare? Il confronto offrirà l’occasione per
  condividere esperienze e riflettere su come l’innovazione tecnologica pos
 sa contribuire a rendere più efficiente e moderna la macchina organizzativ
 a pubblica.\nConduce Gian Luca Spitella Direttore Comunicazione / ATAC S.p
 .a. - Azienda per la mobilità del Comune di Roma Intervengono: - Marco Ava
 gliano Direttore della Direzione Amministrazione Bilancio e Finanza / ENEA
  - Cecilia Colasanti Chief Information Officer / ISTAT - Istituto Nazional
 e di Statistica - Giuseppe Conte Direzione Centrale Relazioni Internaziona
 li / INPS - Istituto Nazionale della Previdenza Sociale - Paolo Micozzi In
 novation Manager - Dirigente sistemi informativi / Ministero dell'Universi
 tà e della Ricerca - Cosimo Toldonato Responsabile Direzione Soluzioni e S
 ervizi Finanze e Trasversali / Sogei https://takethedate.it/Eventi/52171-f
 orum-transizione-digitale-2026.html
DTSTART:20260423T090000Z
DTEND:20260423T120000Z
LOCATION:Roma (Roma)
SUMMARY:Forum transizione digitale 2026
URL:https://takethedate.it/Eventi/52171-forum-transizione-digitale-2026.htm
 l
END:VEVENT
END:VCALENDAR
