BEGIN:VCALENDAR
VERSION:2.0
PRODID:-//https://takethedate.it///NONSGML kigkonsult.se iCalcreator 2.10.15//
METHOD:PUBLISH
BEGIN:VEVENT
UID:20260425T000016CEST-4114l2ECfJ@https://takethedate.it/
DTSTAMP:20260424T220016Z
DESCRIPTION:Academy “Laboratori di Futuro”\, l’iniziativa organizzata e pro
 mossa da Istat in collaborazione con l’Università di Pavia\, propone un ci
 clo di seminari dedicato alla statistica ufficiale come strumento essenzia
 le per comprendere la realtà sociale ed economica del Paese.\nAttraverso q
 uattro incontri tematici\, esperte ed esperti dell’Istat guideranno i part
 ecipanti in un percorso che attraversa l’intero ciclo di vita del dato sta
 tistico: dalla produzione dei dati alla loro diffusione\, fino all’interpr
 etazione e all’analisi dei principali fenomeni demografici\, sociali ed ec
 onomici.\nIl programma affronta temi centrali quali l’evoluzione della sta
 tistica ufficiale e il censimento della popolazione\, la misurazione del b
 enessere attraverso i progetti BES e BesT\, le modalità di accesso e diffu
 sione dei dati Istat\, e il ruolo dei censimenti e delle statistiche econo
 miche per la lettura dei cambiamenti del Paese.\nL’iniziativa\, rivolta a 
 un pubblico selezionato su invito\, si indirizza in particolare a studente
 sse e studenti\, ricercatrici e ricercatori e a chi è interessato ad appro
 fondire il valore informativo e conoscitivo della statistica ufficiale nei
  processi di studio\, analisi e decisione pubblica.\n Programma https://ta
 kethedate.it/Eventi/52128-scoprire-la-statistica-ufficiale-metodi-dati-e-a
 nalisi-per-leggere-il-paese.html
DTSTART:20260504T070000Z
DTEND:20260518T170000Z
LOCATION:Pavia (Pavia)
SUMMARY:Scoprire la statistica ufficiale: metodi\, dati e analisi per legge
 re il Paese
URL:https://takethedate.it/Eventi/52128-scoprire-la-statistica-ufficiale-me
 todi-dati-e-analisi-per-leggere-il-paese.html
END:VEVENT
END:VCALENDAR
