BEGIN:VCALENDAR
VERSION:2.0
PRODID:-//https://takethedate.it///NONSGML kigkonsult.se iCalcreator 2.10.15//
METHOD:PUBLISH
BEGIN:VEVENT
UID:20260421T225353CEST-36059g73Fd@https://takethedate.it/
DTSTAMP:20260421T205353Z
DESCRIPTION:Venerdi 4 maggio si svolgerà\, alle ore 18.00 presso la sala de
 ll’Osteria delle Erbe\, a piazza delle Erbe n. 15 (Mantova) la Conferenza 
 Stampa di Fratelli d’Italia\, nel corso della quale si analizzerà la situa
 zione politica nazionale\, saranno presentati i prossimi progetti del part
 ito\, le posizioni che saranno assunte rispetto alle prossime elezioni amm
 inistrative e saranno ufficializzate alcune nuove adesioni di amministrato
 ri locali. Sono stati invitati a partecipare tutti i Parlamentari ed i con
 siglieri regionali eletti in Lombardia. Hanno confermato la propria partec
 ipazione: la coordinatrice regionale Senatrice Daniela Santanchè\, la Sena
 trice Isabella Rauti\, l’Onorevole Paola Frassinetti\, l’Onorevole Carlo F
 idanza\, l’Onorevole Marco Osnato\, l'Assessore regionale al Turismo Lara 
 Magoni\, l’Assessore regionale alla sicurezza Riccardo De Corato\, il Cons
 igliere regionale Barbara Mazzali e il Consigliere regionale Franco Lucent
 e. Saranno presenti anche Alessandro Beduschi\, sindaco di Borgo Virgilio 
 e Paola Mancini consigliere comunale di Castel Goffredo. Seguirà dalle ore
  19.00 un aperitivo aperto alla cittadinanza.\n  https://takethedate.it/Ev
 enti/5196-conferenza-stampa-di-presentazione-degli-eletti-e-degli-amminist
 ratori-di-fratelli-ditalia-e-presentazione-delle-nuove-adesioni.html
DTSTART:20180504T160000Z
DTEND:20180504T190000Z
LOCATION:Osteria delle Erbe Mantova (Piazza Erbe 15\, Mantova)
SUMMARY:Conferenza stampa di presentazione degli eletti e degli amministrat
 ori di Fratelli d’Italia e presentazione delle nuove adesioni 
URL:https://takethedate.it/Eventi/5196-conferenza-stampa-di-presentazione-d
 egli-eletti-e-degli-amministratori-di-fratelli-ditalia-e-presentazione-del
 le-nuove-adesioni.html
END:VEVENT
END:VCALENDAR
