BEGIN:VCALENDAR
VERSION:2.0
PRODID:-//https://takethedate.it///NONSGML kigkonsult.se iCalcreator 2.10.15//
METHOD:PUBLISH
BEGIN:VEVENT
UID:20260421T210201CEST-70624v8c8b@https://takethedate.it/
DTSTAMP:20260421T190201Z
DESCRIPTION:Mercoledì 22 aprile\, si terrà il prossimo Cenacolo della Fonda
 zione Canova Club Roma\, dedicato al tema “Olimpiadi e Paralimpiadi Invern
 ali: successi\, impatti economici e prospettive per l'Italia”.\nSarà un’oc
 casione di riflessione e confronto su uno degli eventi più rilevanti per i
 l nostro Paese. Analizzeremo insieme i risultati sportivi\, l’impatto econ
 omico e il valore strategico di queste manifestazioni per il territorio e 
 il sistema Italia.\nA parlarne il già Canoviano d’Onore\, Giovanni Malagò\
 , Presidente della Fondazione Milano Cortina 2026 e membro del CIO (Comita
 to Olimpico Internazionale). In sostanza la figura di riferimento che ha a
 ccompagnato il progetto dalla fase di candidatura\, che ha portato all’ass
 egnazione dei Giochi all’Italia\, fino alla loro realizzazione.\nCosto del
 la serata: serata in quota per i SOCI\; €80 per un ospite PAGATO dal SOCIO
 \; €95 per i NON SOCI. No Cena €40\nAdesioni aperte\, registrandosi alla p
 agina: https://www.canova.club/Iscrizione-eventi-on-line/IDEVENTO/2972\n  
 https://takethedate.it/Eventi/51888-olimpiadi-e-paralimpiadi-invernali-suc
 cessi-impatti-economici-e-prospettive-per-litalia.html
DTSTART:20260422T163000Z
DTEND:20260422T193000Z
LOCATION:Roma (Roma)
SUMMARY:Olimpiadi e Paralimpiadi Invernali: successi\, impatti economici e 
 prospettive per l'Italia
URL:https://takethedate.it/Eventi/51888-olimpiadi-e-paralimpiadi-invernali-
 successi-impatti-economici-e-prospettive-per-litalia.html
END:VEVENT
END:VCALENDAR
