BEGIN:VCALENDAR
VERSION:2.0
PRODID:-//https://takethedate.it///NONSGML kigkonsult.se iCalcreator 2.10.15//
METHOD:PUBLISH
BEGIN:VEVENT
UID:20260421T211105CEST-4228KgWahv@https://takethedate.it/
DTSTAMP:20260421T191105Z
DESCRIPTION:Tratteremo di Soluzioni Software 4.0 e 5.0 e di come l’Intellig
 enza Artificiale\, integrata nel software\, sta orchestrando i processi in
 dustriali. Evento gratuito in sola presenza\, rivolto ai soci e aperto al 
 pubblico.\nIn collaborazione con. Iscrizione obbligatoria a questo link fi
 no ad esaurimento dei posti disponibili.\nAGENDA: Saluti introduttivi di A
 ssoSoftware. Keynote Speaker sarà il Responsabile del Business Development
  di MADE – Competence Center Industria 4.0. Speech dei soci AssoSoftware (
 15′ ciascuno) per raccontare la propria esperienza\, presentare una propri
 a soluzione software o servizio.\nCocktail di networking al termine dei la
 vori. https://takethedate.it/Eventi/51736-software-e-networking-un-palcosc
 enico-per-le-software-house.html
DTSTART:20260422T131500Z
DTEND:20260422T161500Z
LOCATION:Milano (Milano)
SUMMARY:Software e networking: un palcoscenico per le software house
URL:https://takethedate.it/Eventi/51736-software-e-networking-un-palcosceni
 co-per-le-software-house.html
END:VEVENT
END:VCALENDAR
