BEGIN:VCALENDAR
VERSION:2.0
PRODID:-//https://takethedate.it///NONSGML kigkonsult.se iCalcreator 2.10.15//
METHOD:PUBLISH
BEGIN:VEVENT
UID:20260423T122137CEST-1542TwE9gL@https://takethedate.it/
DTSTAMP:20260423T102137Z
DESCRIPTION:Negli ultimi anni la farmacia di comunità ha assunto un ruolo s
 empre più strategico all’interno del Servizio Sanitario Nazionale (SSN)\, 
 evolvendo dal modello tradizionale di dispensazione verso una Farmacia dei
  Servizi pienamente integrata nei percorsi di prevenzione\, presa in caric
 o e promozione della salute. Questa trasformazione\, già avviata grazie al
  contributo emergenziale durante la pandemia\, è oggi in fase di consolida
 mento attraverso il Decreto Legge (Articolo 60 del DL Semplificazioni – Mi
 sure di semplificazione per promuovere l’erogazione dei servizi in farmaci
 a) entrato in vigore con la pubblicazione in Gazzetta Ufficiale il 3 dicem
 bre 2025\, che introduce nuovi standard di accreditamento\, procedure unif
 ormate e riconoscimenti formali per il farmacista vaccinatore.\nIl decreto
  si inserisce nel percorso di rafforzamento della sanità territoriale\, va
 lorizzando il ruolo delle farmacie come presidi di prossimità e ampliandon
 e il contributo all’erogazione di servizi di prevenzione\, inclusa la somm
 inistrazione dei vaccini\, secondo il quadro normativo nazionale. \nLe inn
 ovazioni introdotte mirano a:\n\nsemplificare i processi organizzativi e a
 mministrativi\;\nfavorire una più ampia diffusione dei servizi sanitari su
 l territorio\;\nrafforzare l’integrazione tra farmacie e Servizio Sanitari
 o Nazionale\;\nmigliorare l’accessibilità alle attività di prevenzione vac
 cinale.\n\nNel quadro del Piano Nazionale Prevenzione Vaccinale (PNPV) e d
 elle esigenze di rafforzamento delle coperture vaccinali\, la farmacia rap
 presenta un presidio di prossimità fondamentale: capillare\, accessibile\,
  privo di barriere organizzative e con una relazione fiduciaria con i citt
 adini. In questo contesto\, l’effettiva attuazione delle disposizioni del 
 decreto a livello regionale rappresenta un passaggio essenziale per trasfo
 rmare le innovazioni normative in interventi concreti e omogenei\, capaci 
 di incidere sull’equità di accesso\, sulla capacità complessiva del sistem
 a e di rispondere ai bisogni di salute pubblica.\nNonostante l’esperienza 
 maturata durante le campagne vaccinali\, in particolare antinfluenzali e a
 nti-Covid\, abbia evidenziato il potenziale delle farmacie nel favorire un
 a maggiore accessibilità e nel rispondere in modo tempestivo ai  bisogni d
 i salute della popolazione\, il livello di implementazione delle vaccinazi
 oni in farmacia risulta ancora eterogeneo a livello nazionale\, con differ
 enze significative tra Regioni in termini di modelli organizzativi\, modal
 ità operative e integrazione con i servizi sanitari regionali. \nIn questo
  contesto\, la piena valorizzazione delle farmacie come presidi di prevenz
 ione rappresenta una leva strategica per rafforzare l’equità di accesso al
 le vaccinazioni e sostenere gli obiettivi di sanità pubblica (ad oggi circ
 a 5000 farmacie\, solo il 25%\, effettuano vaccinazioni\, mentre il potenz
 iale stimato è molto superiore). Per colmare questo gap\, non solo numeric
 o ma anche geografico\, serve un percorso progettuale integrato\, basato s
 u evidenze economiche\, chiarezza procedurale\, partnership istituzionali 
 e un forte lavoro culturale sui farmacisti. https://takethedate.it/Eventi/
 51733-napoli-farmacia-dei-servizi-il-futuro-delle-vaccinazioni-e-gia-qui.h
 tml
DTSTART:20260423T080000Z
DTEND:20260423T110000Z
LOCATION:evento online  ()
SUMMARY:Napoli\, farmacia dei servizi: il futuro delle vaccinazioni è già q
 ui
URL:https://takethedate.it/Eventi/51733-napoli-farmacia-dei-servizi-il-futu
 ro-delle-vaccinazioni-e-gia-qui.html
END:VEVENT
END:VCALENDAR
