BEGIN:VCALENDAR
VERSION:2.0
PRODID:-//https://takethedate.it///NONSGML kigkonsult.se iCalcreator 2.10.15//
METHOD:PUBLISH
BEGIN:VEVENT
UID:20260423T103514CEST-6410WgVNg8@https://takethedate.it/
DTSTAMP:20260423T083514Z
DESCRIPTION:Alle ore 17\, presso la Sala della Lupa di Montecitorio si svol
 ge la presentazione del libro 'Leone XIV - Chi dite che io sia? Sono un fi
 glio di Agostino”\, di Ignazio Ingrao e Giuseppe Pagano. Messaggio del Pre
 sidente della Camera\, Lorenzo Fontana. Intervengono Pietro Parolin\, Segr
 etario di Stato di Sua Santità\, Pier Ferdinando Casini\, Presidente del G
 ruppo italiano dell’Unione interparlamentare\, Joseph L. Farrell\, Priore 
 generale dell’Ordine di Sant’Agostino\, Elena Beccalli\, Rettrice dell’Uni
 versità cattolica del Sacro Cuore. Modera Nicole Winfield.  https://taketh
 edate.it/Eventi/51148-leone-xiv-chi-dite-che-io-sia-sono-un-figlio-di-agos
 tino.html
DTSTART:20260318T160000Z
DTEND:20260318T180000Z
LOCATION:Roma (Roma)
SUMMARY:​Leone XIV - Chi dite che io sia? Sono un figlio di Agostino
URL:https://takethedate.it/Eventi/51148-leone-xiv-chi-dite-che-io-sia-sono-
 un-figlio-di-agostino.html
END:VEVENT
END:VCALENDAR
