BEGIN:VCALENDAR
VERSION:2.0
PRODID:-//https://takethedate.it///NONSGML kigkonsult.se iCalcreator 2.10.15//
METHOD:PUBLISH
BEGIN:VEVENT
UID:20260421T115211CEST-4310GvkbpX@https://takethedate.it/
DTSTAMP:20260421T095211Z
DESCRIPTION:Registrazione obbligatoria\nIl settore agroindustriale si trova
  oggi di fronte a una sfida senza precedenti: incrementare la biomassa edi
 bile e la qualità dei prodotti ottenuti in campo in un contesto di crisi c
 limatica e sostenibilità ambientale. Per rispondere a questa esigenza\, la
  fisiologia vegetale compie un salto di paradigma\, poiché non si limita a
  studiare il metabolismo dello sviluppo delle piante\, ma cerca di impleme
 ntare le loro risposte fisiologiche per allinearle alle necessità della fi
 liera industriale. La tematica predetta verrà affrontata all'Accademia del
  Georgofili\, mediante alcuni eventi che si svolgeranno nel corso del 2026
 .\nI primi due eventi daranno risalto ad alcuni aspetti di base della biol
 ogia delle piante coltivate.Questa prima Giornata di studio si riferirà in
  particolare all'impiego di biotecnologie molecolari mirate all'otteniment
 o di varietà più adatte ai vari tipi di stress riscontrabili in campo\, ma
  anche all'impiego di metodologie per un più efficiente uso dell'acqua e d
 ei nutrienti\, ai fini dell'incremento produttivo.\nScarica il programma h
 ttps://takethedate.it/Eventi/50756-piante-industriali-produzione-in-campo.
 html
DTSTART:20260318T080000Z
DTEND:20260318T120000Z
LOCATION:Firenze (Firenze)
SUMMARY:Piante industriali. Produzione in campo
URL:https://takethedate.it/Eventi/50756-piante-industriali-produzione-in-ca
 mpo.html
END:VEVENT
END:VCALENDAR
