BEGIN:VCALENDAR
VERSION:2.0
PRODID:-//https://takethedate.it///NONSGML kigkonsult.se iCalcreator 2.10.15//
METHOD:PUBLISH
BEGIN:VEVENT
UID:20260421T210726CEST-3262goutGm@https://takethedate.it/
DTSTAMP:20260421T190726Z
DESCRIPTION:La 20° edizione del convegno “Ecommerce Italia” di Casaleggio A
 ssociati si terrà il 22 Aprile 2026 a Milano con oltre 350 professionisti 
 del mondo ecommerce e la presenza sul palco di manager di aziende di primo
  piano. Uno dei principali convegni sul Digital Commerce in Italia e un mo
 mento unico per esplorare dati\, strategie\, trend ed evoluzioni del merca
 to.\nDurante la mattinata verranno presentati i risultati della ricerca e 
 si terranno i talk con i manager dell’Ecommerce. A seguire il networking l
 unch e nel pomeriggio i workshop con i casi di successo più significativi 
 e i focus di approfondimento.\n  https://takethedate.it/Eventi/49823-ecomm
 erce-italia-summit-2026.html
DTSTART:20260422T080000Z
DTEND:20260422T150000Z
LOCATION:evento online  ()
SUMMARY:Ecommerce Italia Summit 2026
URL:https://takethedate.it/Eventi/49823-ecommerce-italia-summit-2026.html
END:VEVENT
END:VCALENDAR
