BEGIN:VCALENDAR
VERSION:2.0
PRODID:-//https://takethedate.it///NONSGML kigkonsult.se iCalcreator 2.10.15//
METHOD:PUBLISH
BEGIN:VEVENT
UID:20260422T185925CEST-8613RAzDhA@https://takethedate.it/
DTSTAMP:20260422T165925Z
DESCRIPTION:Cagliari\, 13-17 ottobre 2025\nSardinia 2025 è organizzato dall
 ’International Waste Working Group (IWWG)\, con il coinvolgimento scientif
 ico delle Università di Padova (IT)\, BOKU di Vienna (AT)\, Tongji di Shan
 ghai (CN) e delle Università Tecniche di Luleå (SE) e Amburgo (DE). L’even
 to si svolge sotto l’alto patronato di ISPRA\, ENEA e del Tavolo di Roma (
 IT) ed è promosso da numerosi organismi internazionali.\nFondata nel 1987\
 , la conferenza attrae solitamente oltre 600 partecipanti da tutto il mond
 o e ospita più di 400 presentazioni di lavoro per edizione\, rendendo il S
 imposio di Sardinia uno dei principali appuntamenti mondiali sulla gestion
 e dei rifiuti solidi. https://takethedate.it/Eventi/47668-sardinia-2025.ht
 ml
DTSTART:20251013T070000Z
DTEND:20251017T160000Z
LOCATION:Cagliari (Cagliari)
SUMMARY:Sardinia 2025
URL:https://takethedate.it/Eventi/47668-sardinia-2025.html
END:VEVENT
END:VCALENDAR
