BEGIN:VCALENDAR
VERSION:2.0
PRODID:-//https://takethedate.it///NONSGML kigkonsult.se iCalcreator 2.10.15//
METHOD:PUBLISH
BEGIN:VEVENT
UID:20260422T161710CEST-66322FWAiv@https://takethedate.it/
DTSTAMP:20260422T141710Z
DESCRIPTION:Torino\, 10-12 maggio 2025 – Centro Congressi LingottoTorna l’a
 ppuntamento più atteso dalla Medicina Interna italiana: il Congresso Nazio
 nale FADOI\, giunto alla sua 30ª edizione\, sarà come sempre un momento di
  confronto scientifico\, crescita culturale e aggiornamento professionale 
 di altissimo livello. https://takethedate.it/Eventi/46586-congresso-nazion
 ale-fadoi.html
DTSTART:20250510T070000Z
DTEND:20250512T160000Z
LOCATION:Centro congressi Lingotto (Via Nizza 280\, Torino)
SUMMARY:Congresso Nazionale FADOI
URL:https://takethedate.it/Eventi/46586-congresso-nazionale-fadoi.html
END:VEVENT
END:VCALENDAR
