BEGIN:VCALENDAR
VERSION:2.0
PRODID:-//https://takethedate.it///NONSGML kigkonsult.se iCalcreator 2.10.15//
METHOD:PUBLISH
BEGIN:VEVENT
UID:20260420T103956CEST-4010bUf3ER@https://takethedate.it/
DTSTAMP:20260420T083956Z
DESCRIPTION:“Cooperazione Interreligiosa: Fondamento per la Fraternità Uman
 a e la Cultura per la Pace”\, è il tema del convegno che si terrà nella Sa
 la Zuccari di Palazzo Giustiniani\, presso il Senato della Repubblica a Ro
 ma\, il 4 Febbraio 2025\, con inizio lavori alle ore 15.30.\nL'incontro è 
 stato organizzato su iniziativa del Senatore Pier Ferdinando Casini\, da U
 niversal Peace Federation (UPF Italia)\, in occasione della Settimana Mond
 iale dell'Armonia Interreligiosa e della Giornata Internazionale della Fra
 tellanza Umana. \nInterverranno: Il Senatore Pier Ferdinando Casini\; Mons
 . Yoannis Lahzi Gaid\, Presidente Human Fraternity Foundation\; Carlo Zona
 to\, Presidente UPF Italia\; Nader Akkad\, Imam Grande Moschea di Roma\; F
 rancesca Baldini\, Coordinatrice gruppo Donne di Fede in dialogo di Religi
 ons for Peace\; Giuseppe Calì\, Presidente Family Federation for World Pea
 ce and Unification\, Europa Sud\; Luis Miguel Perea Castrillon\, Vescovo C
 hiesa Anglicana d’Europa\; Rav Ariel Di Porto\, Rabbino Comunità Ebraica d
 i Roma\; Thenzin Khentse\, Monaco Buddhista di trad. tibetana\, Ghe Pel Li
 ng Milano\; e Raffaella Di Marzio\, Direttrice Centro Studi LIREC\, modera
 trice.\nIl patrimonio spirituale delle religioni rappresenta l'eredità più
  preziosa da riscoprire e valorizzare\, al fine di affrontare e risolvere 
 le conflittualità che\, a ogni livello\, ostacolano il cammino dell'umanit
 à verso la terra promessa della pace. \nL'unità e la cooperazione tra le f
 edi\, in questa prospettiva\, costituiscono un percorso essenziale per pro
 muovere la cultura della pace\, un valore comune profondamente radicato ne
 ll'essenza dei loro insegnamenti.\nIn questo contesto\, la Giornata Intern
 azionale della Fratellanza Umana\, che si celebra il 4 febbraio\, insieme 
 alla Settimana Mondiale per l’Armonia tra le Fedi\, che si svolge nella pr
 ima settimana di febbraio\, rappresentano due appuntamenti fondamentali in
 detti dalle Nazioni Unite. \nQueste celebrazioni intendono promuovere il s
 uperamento di tutti i conflitti con uno spirito di riconciliazione attrave
 rso il perdono\, la compassione e una cooperazione fraterna orientata al b
 ene dell’intera famiglia umana perseguendo interdipendenza\, prosperità co
 ndivisa e valori universali comuni.\nCon l'avvento dell'Anno Giubilare 202
 5\, indetto da Papa Francesco sotto il motto 'Pellegrini della Speranza'\,
  la Universal Peace Federation intende celebrare queste ricorrenze come fo
 rte richiamo al cammino comune dell'umanità\, affinché possa riscoprire il
  legame con la propria origine divina.\nUPF International è una ONG presso
  l'ECOSOC delle Nazioni Unite con Stato Consultivo Generale\, fondata dai 
 coniugi Moon. In Italia\, tra le varie iniziative\, pubblica la rivista pe
 riodica “Voci di Pace”\, un punto di riferimento culturale di rilievo sui 
 temi interreligiosi\, dei diritti umani\, della buona governance e della p
 ace.\nI giornalisti e gli ospiti devono accreditarsi scrivendo a: relazion
 i.esterne@italia-upf.org https://takethedate.it/Eventi/45028-cooperazione-
 interreligiosa-fondamento-per-la-fraternita-umana-e-la-cultura-per-la-pace
 .html
DTSTART:20250204T143000Z
DTEND:20250204T163000Z
LOCATION:Palazzo Giustiniani  (Via della Dogana Vecchia 29\, Roma)
SUMMARY:Cooperazione Interreligiosa: Fondamento per la Fraternità Umana e l
 a Cultura per la Pace
URL:https://takethedate.it/Eventi/45028-cooperazione-interreligiosa-fondame
 nto-per-la-fraternita-umana-e-la-cultura-per-la-pace.html
END:VEVENT
END:VCALENDAR
