BEGIN:VCALENDAR
VERSION:2.0
PRODID:-//https://takethedate.it///NONSGML kigkonsult.se iCalcreator 2.10.15//
METHOD:PUBLISH
BEGIN:VEVENT
UID:20260422T090029CEST-3430v8EVcw@https://takethedate.it/
DTSTAMP:20260422T070029Z
DESCRIPTION:Si terrà il prossimo lunedì 13 gennaio alle ore 10\, presso la 
 sede di Latina Formazione Lavoro (Via Epitaffio\, Km 4\,200)\, l'evento da
 l titolo 'Costruire un futuro competitivo'\, organizzato da UGL Lazio. \nL
 'iniziativa – si legge in una nota – riunirà istituzioni\, rappresentanti 
 del mondo imprenditoriale e figure chiave nel settore della formazione per
  discutere delle sfide e delle opportunità legate allo sviluppo economico 
 e sociale della Regione Lazio.\nInterviene il Presidente di Unindustria La
 tina Fausto Bianchi. https://takethedate.it/Eventi/44825-costruire-un-futu
 ro-competitivo.html
DTSTART:20250113T090000Z
DTEND:20250113T120000Z
LOCATION:Latina (Latina)
SUMMARY:Costruire un futuro competitivo
URL:https://takethedate.it/Eventi/44825-costruire-un-futuro-competitivo.htm
 l
END:VEVENT
END:VCALENDAR
