BEGIN:VCALENDAR
VERSION:2.0
PRODID:-//https://takethedate.it///NONSGML kigkonsult.se iCalcreator 2.10.15//
METHOD:PUBLISH
BEGIN:VEVENT
UID:20260423T103459CEST-9547u2WXsL@https://takethedate.it/
DTSTAMP:20260423T083459Z
DESCRIPTION:Il lavoro agile rimane utile strumento per completare l’organiz
 zazione aziendale.\nAbbondantemente superata la fase post Covid riteniamo 
 utile ed opportuno riconsiderare talune peculiarità del citato istituto ch
 e possono essere non in linea con il rigido quadro normativo di orientamen
 to giuslavoristico.\nFra tutti\, ma non solo\, il tema della sicurezza sui
  luoghi di lavoro. Il connubio di diverse visoni contribuirà ad avere una 
 conoscitivo quadro più esaustivo e pertinente.\nVi invitiamo a seguirci il
  10 luglio p.v. alle ore 14\,30 in live streaming sul canale Youtube e sul
 la pagina Facebook di Confagricoltura Siena.\nprogramma https://takethedat
 e.it/Eventi/42905-lavoro-agile-dove-eravamo-rimasti.html
DTSTART:20240710T123000Z
DTEND:20240710T143000Z
LOCATION:evento online  ()
SUMMARY:Lavoro agile\, dove eravamo rimasti?
URL:https://takethedate.it/Eventi/42905-lavoro-agile-dove-eravamo-rimasti.h
 tml
END:VEVENT
END:VCALENDAR
